BEGIN:VCALENDAR
VERSION:2.0
PRODID:-//Famiglia Veneta di Rosario - ECPv6.15.17//NONSGML v1.0//EN
CALSCALE:GREGORIAN
METHOD:PUBLISH
X-WR-CALNAME:Famiglia Veneta di Rosario
X-ORIGINAL-URL:https://asociacionvenetarosario.ar
X-WR-CALDESC:Eventos para Famiglia Veneta di Rosario
REFRESH-INTERVAL;VALUE=DURATION:PT1H
X-Robots-Tag:noindex
X-PUBLISHED-TTL:PT1H
BEGIN:VTIMEZONE
TZID:America/Sao_Paulo
BEGIN:STANDARD
TZOFFSETFROM:-0300
TZOFFSETTO:-0300
TZNAME:-03
DTSTART:20250101T000000
END:STANDARD
END:VTIMEZONE
BEGIN:VEVENT
DTSTART;TZID=America/Sao_Paulo:20260213T180000
DTEND;TZID=America/Sao_Paulo:20260213T200000
DTSTAMP:20260420T063503
CREATED:20260131T123008Z
LAST-MODIFIED:20260206T182203Z
UID:2250-1771005600-1771012800@asociacionvenetarosario.ar
SUMMARY:Serata Veneziana
DESCRIPTION:
URL:https://asociacionvenetarosario.ar/evento/serata-veneziana/
LOCATION:Biblioteca Argentina «Dr. Juan Álvarez»\, Pte Roca 731\, Rosario\, Santa Fe\, S2003HIX\, Argentina
ATTACH;FMTTYPE=image/jpeg:https://asociacionvenetarosario.ar/wp-content/uploads/serata.jpg
END:VEVENT
END:VCALENDAR