BEGIN:VCALENDAR
VERSION:2.0
PRODID:-//Famiglia Veneta di Rosario - ECPv6.15.17//NONSGML v1.0//EN
CALSCALE:GREGORIAN
METHOD:PUBLISH
X-WR-CALNAME:Famiglia Veneta di Rosario
X-ORIGINAL-URL:https://asociacionvenetarosario.ar
X-WR-CALDESC:Eventos para Famiglia Veneta di Rosario
REFRESH-INTERVAL;VALUE=DURATION:PT1H
X-Robots-Tag:noindex
X-PUBLISHED-TTL:PT1H
BEGIN:VTIMEZONE
TZID:America/Sao_Paulo
BEGIN:STANDARD
TZOFFSETFROM:-0300
TZOFFSETTO:-0300
TZNAME:-03
DTSTART:20250101T000000
END:STANDARD
END:VTIMEZONE
BEGIN:VEVENT
DTSTART;TZID=America/Sao_Paulo:20260217T203000
DTEND;TZID=America/Sao_Paulo:20260217T233000
DTSTAMP:20260420T063254
CREATED:20260131T123514Z
LAST-MODIFIED:20260206T190559Z
UID:2253-1771360200-1771371000@asociacionvenetarosario.ar
SUMMARY:Milonga La Piucarina edición Carnaval
DESCRIPTION:
URL:https://asociacionvenetarosario.ar/evento/milonga-la-piucarina-edicion-carnaval/
LOCATION:Asociación Familia Veneta\, Cafferata 254\, Rosario\, Santa Fe\, 2000\, Argentina
ATTACH;FMTTYPE=image/jpeg:https://asociacionvenetarosario.ar/wp-content/uploads/piucarina.jpg
END:VEVENT
END:VCALENDAR