BEGIN:VCALENDAR
VERSION:2.0
PRODID:-//Famiglia Veneta di Rosario - ECPv6.15.17//NONSGML v1.0//EN
CALSCALE:GREGORIAN
METHOD:PUBLISH
X-ORIGINAL-URL:https://asociacionvenetarosario.ar
X-WR-CALDESC:Eventos para Famiglia Veneta di Rosario
REFRESH-INTERVAL;VALUE=DURATION:PT1H
X-Robots-Tag:noindex
X-PUBLISHED-TTL:PT1H
BEGIN:VTIMEZONE
TZID:America/Sao_Paulo
BEGIN:STANDARD
TZOFFSETFROM:-0300
TZOFFSETTO:-0300
TZNAME:-03
DTSTART:20250101T000000
END:STANDARD
END:VTIMEZONE
BEGIN:VEVENT
DTSTART;TZID=America/Sao_Paulo:20260228T203000
DTEND;TZID=America/Sao_Paulo:20260301T013000
DTSTAMP:20260420T050356
CREATED:20260131T125031Z
LAST-MODIFIED:20260131T150652Z
UID:2260-1772310600-1772328600@asociacionvenetarosario.ar
SUMMARY:Il Ballo del Doge
DESCRIPTION:
URL:https://asociacionvenetarosario.ar/evento/il-ballo-del-doge/
LOCATION:Asociación Familia Veneta\, Cafferata 254\, Rosario\, Santa Fe\, 2000\, Argentina
END:VEVENT
END:VCALENDAR