BEGIN:VCALENDAR
VERSION:2.0
PRODID:-//Famiglia Veneta di Rosario - ECPv6.15.17//NONSGML v1.0//EN
CALSCALE:GREGORIAN
METHOD:PUBLISH
X-WR-CALNAME:Famiglia Veneta di Rosario
X-ORIGINAL-URL:https://asociacionvenetarosario.ar
X-WR-CALDESC:Eventos para Famiglia Veneta di Rosario
REFRESH-INTERVAL;VALUE=DURATION:PT1H
X-Robots-Tag:noindex
X-PUBLISHED-TTL:PT1H
BEGIN:VTIMEZONE
TZID:America/Sao_Paulo
BEGIN:STANDARD
TZOFFSETFROM:-0300
TZOFFSETTO:-0300
TZNAME:-03
DTSTART:20250101T000000
END:STANDARD
END:VTIMEZONE
BEGIN:VEVENT
DTSTART;TZID=America/Sao_Paulo:20260322T190000
DTEND;TZID=America/Sao_Paulo:20260322T210000
DTSTAMP:20260420T045545
CREATED:20260318T194201Z
LAST-MODIFIED:20260318T194201Z
UID:2368-1774206000-1774213200@asociacionvenetarosario.ar
SUMMARY:La pazza gioia\, Ciclo de cine italiano
DESCRIPTION:📽️ 🇮🇹 Nueva función del Ciclo de Cine Italiano dirigido por el profesor Emilio Bellon \n👉 La pazza gioia\, de Paolo Virzì \nSinopsis:\nBeatrice (Valeria Bruni Tedeschi) es una condesa charlatana y millonaria que está convencida de encontrarse entre los círculos íntimos de los líderes políticos mundiales. Por su parte Donatella (Micaella Ramazzotti) es una joven tatuada\, vulnerable e introvertida\, envuelta en su propio halo de misterio. Ambas son pacientes de Villabiondi\, una delirante institución psiquiátrica. (FILMAFFINITY) \n🗓️ Domingo 22 de marzo a las 19 hrs \n📍 Cafferata 254 \n#cineitaliano\n#cinemaitaliano\n#cine\n#eventosrosario\n#agendaculturalrosario
URL:https://asociacionvenetarosario.ar/evento/la-pazza-gioia-ciclo-de-cine-italiano/
LOCATION:Asociación Familia Veneta\, Cafferata 254\, Rosario\, Santa Fe\, 2000\, Argentina
CATEGORIES:Ciclo de cine
ATTACH;FMTTYPE=image/jpeg:https://asociacionvenetarosario.ar/wp-content/uploads/cine1.jpg
END:VEVENT
END:VCALENDAR