BEGIN:VCALENDAR
VERSION:2.0
PRODID:-//Famiglia Veneta di Rosario - ECPv6.15.17//NONSGML v1.0//EN
CALSCALE:GREGORIAN
METHOD:PUBLISH
X-ORIGINAL-URL:https://asociacionvenetarosario.ar
X-WR-CALDESC:Eventos para Famiglia Veneta di Rosario
REFRESH-INTERVAL;VALUE=DURATION:PT1H
X-Robots-Tag:noindex
X-PUBLISHED-TTL:PT1H
BEGIN:VTIMEZONE
TZID:America/Sao_Paulo
BEGIN:STANDARD
TZOFFSETFROM:-0300
TZOFFSETTO:-0300
TZNAME:-03
DTSTART:20250101T000000
END:STANDARD
END:VTIMEZONE
BEGIN:VEVENT
DTSTART;TZID=America/Sao_Paulo:20260328T190000
DTEND;TZID=America/Sao_Paulo:20260328T210000
DTSTAMP:20260420T045625
CREATED:20260314T141959Z
LAST-MODIFIED:20260314T141959Z
UID:2365-1774724400-1774731600@asociacionvenetarosario.ar
SUMMARY:1° Encuentro Noche de Clásicos en la Veneta
DESCRIPTION:NOCHES DE CLÁSICOS EN LA VENETA: TEMPORADA 2026 \nLlega la tercera edición de Noches de Clásicos en la Veneta\, un ciclo de música académica pensado para todo público que congrega a importantes artistas de nuestra ciudad\, provincia y el país en nuestra sala. \nEl ciclo de conciertos 2026 recorrerá más de cuatro siglos de música: desde la música del renacimiento y el barroco hasta el repertorio contemporáneo. \nDurante el año escucharemos obras de grandes compositores interpretadas por destacados músicos y ensambles: programas dedicados a la música antigua\, el barroco italiano y especialmente veneciano\, conciertos de música de cámara\, una gala lírica con las más hermosas arias y dúos de ópera y zarzuela\, y un concierto especial celebrando el 270° aniversario del nacimiento de Mozart\, con obras emblemáticas como la Sinfonía n.º 25 y el Concierto para violín n.º 5 en La mayor. \nCada velada será una invitación a encontrarnos con la belleza de la música en vivo\, en un ambiente cercano y acogedor. En Noches de Clásicos\, la música está al alcance de todos. \n📍 Cafferata 254 – Asociación Familia Veneta – Rosario
URL:https://asociacionvenetarosario.ar/evento/1-encuentro-noche-de-clasicos-en-la-veneta/
LOCATION:Asociación Familia Veneta\, Cafferata 254\, Rosario\, Santa Fe\, 2000\, Argentina
CATEGORIES:Noche de clásicos
ATTACH;FMTTYPE=image/jpeg:https://asociacionvenetarosario.ar/wp-content/uploads/clasicos.jpg
END:VEVENT
END:VCALENDAR