BEGIN:VCALENDAR
VERSION:2.0
PRODID:-//Famiglia Veneta di Rosario - ECPv6.15.17//NONSGML v1.0//EN
CALSCALE:GREGORIAN
METHOD:PUBLISH
X-WR-CALNAME:Famiglia Veneta di Rosario
X-ORIGINAL-URL:https://asociacionvenetarosario.ar
X-WR-CALDESC:Eventos para Famiglia Veneta di Rosario
REFRESH-INTERVAL;VALUE=DURATION:PT1H
X-Robots-Tag:noindex
X-PUBLISHED-TTL:PT1H
BEGIN:VTIMEZONE
TZID:America/Sao_Paulo
BEGIN:STANDARD
TZOFFSETFROM:-0300
TZOFFSETTO:-0300
TZNAME:-03
DTSTART:20250101T000000
END:STANDARD
END:VTIMEZONE
BEGIN:VEVENT
DTSTART;TZID=America/Sao_Paulo:20260416T150000
DTEND;TZID=America/Sao_Paulo:20260416T163000
DTSTAMP:20260419T140716
CREATED:20260407T134339Z
LAST-MODIFIED:20260407T134339Z
UID:2388-1776351600-1776357000@asociacionvenetarosario.ar
SUMMARY:Webinar presentación libro "Nè serva nè padrona"
DESCRIPTION:📚 Webinar – Presentación del libro “Nè serva nè padrona” \n🎭 Diálogo con la autora Claudia Contin Arlecchino\, desde Pordenone (Friuli Venezia Giulia) \n👉 Una cita imperdible para descubrir la nueva edición revisada y ampliada de Nè serva nè padrona\, una confesión buffa sobre las mujeres de la Comedia del Arte y su camino hacia la emancipación desde el siglo XVI hasta hoy.\nLa actriz y autora nos invita a reflexionar sobre la mujer en escena\, entre humor\, filosofía y oficio teatral. \n🗓 Jueves 16 de abril \n⏰ 15 h 🇦🇷 / 20 h 🇮🇹 \n🌐 Actividad gratuita en lengua italiana con traducción al español \n📩 Solicitá el link de Zoom:\nfamvenetarosario@gmail.com \n📞 341-6106192 (WhatsApp sólo mensajes) \n👩‍🎨 Organizan:\nPrograma Donne Venete de la Asociación Veneta de Rosario\nFamilia Friulana de Rosario \nℹ️ Conocé más: https://www.portoarlecchino.com/
URL:https://asociacionvenetarosario.ar/evento/webinar-presentacion-libro-ne-serva-ne-padrona/
LOCATION:Zoom
ATTACH;FMTTYPE=image/jpeg:https://asociacionvenetarosario.ar/wp-content/uploads/WhatsApp-Image-2026-04-07-at-9.48.26-AM.jpeg
END:VEVENT
END:VCALENDAR