BEGIN:VCALENDAR
VERSION:2.0
PRODID:-//Famiglia Veneta di Rosario - ECPv6.15.17//NONSGML v1.0//EN
CALSCALE:GREGORIAN
METHOD:PUBLISH
X-ORIGINAL-URL:https://asociacionvenetarosario.ar
X-WR-CALDESC:Eventos para Famiglia Veneta di Rosario
REFRESH-INTERVAL;VALUE=DURATION:PT1H
X-Robots-Tag:noindex
X-PUBLISHED-TTL:PT1H
BEGIN:VTIMEZONE
TZID:America/Sao_Paulo
BEGIN:STANDARD
TZOFFSETFROM:-0300
TZOFFSETTO:-0300
TZNAME:-03
DTSTART:20240101T000000
END:STANDARD
END:VTIMEZONE
BEGIN:VEVENT
DTSTART;TZID=America/Sao_Paulo:20250917T180000
DTEND;TZID=America/Sao_Paulo:20250917T193000
DTSTAMP:20260421T014052
CREATED:20250912T161055Z
LAST-MODIFIED:20250912T161055Z
UID:2012-1758132000-1758137400@asociacionvenetarosario.ar
SUMMARY:Actuación Coro Veneto de Rosario
DESCRIPTION:
URL:https://asociacionvenetarosario.ar/evento/actuacion-coro-veneto-de-rosario/
CATEGORIES:Eventos
ATTACH;FMTTYPE=image/jpeg:https://asociacionvenetarosario.ar/wp-content/uploads/coro-veneto-1.jpg
END:VEVENT
END:VCALENDAR