BEGIN:VCALENDAR
VERSION:2.0
PRODID:-//Famiglia Veneta di Rosario - ECPv6.15.17//NONSGML v1.0//EN
CALSCALE:GREGORIAN
METHOD:PUBLISH
X-ORIGINAL-URL:https://asociacionvenetarosario.ar
X-WR-CALDESC:Eventos para Famiglia Veneta di Rosario
REFRESH-INTERVAL;VALUE=DURATION:PT1H
X-Robots-Tag:noindex
X-PUBLISHED-TTL:PT1H
BEGIN:VTIMEZONE
TZID:America/Sao_Paulo
BEGIN:STANDARD
TZOFFSETFROM:-0300
TZOFFSETTO:-0300
TZNAME:-03
DTSTART:20240101T000000
END:STANDARD
END:VTIMEZONE
BEGIN:VEVENT
DTSTART;TZID=America/Sao_Paulo:20250808T183000
DTEND;TZID=America/Sao_Paulo:20250808T200000
DTSTAMP:20260422T223131
CREATED:20250801T123712Z
LAST-MODIFIED:20250801T123712Z
UID:1908-1754677800-1754683200@asociacionvenetarosario.ar
SUMMARY:Taller «Archivo Familiar» por Gustavo Frittegotto
DESCRIPTION:Este taller ofrece la oportunidad de explorar y documentar las raíces familiares\, utilizando la fotografía como el medio inicial de búsqueda. Posteriormente\, se incorporarán otros medios disponibles\, como cartas\, documentos\, relatos familiares\, audios\, objetos y los paisajes heredados. A través de este proceso\, se pretende tejer los hilos que conectan a cada individuo con su pasado\, rescatando recuerdos\, tradiciones y experiencias que han dado forma a nuestras identidades. Al profundizar en las narrativas familiares\, se puede obtener una visión más completa de la herencia cultural\, las influencias y las conexiones que han influido en nuestra existencia y la comprensión de nuestro paisaje de vida.
URL:https://asociacionvenetarosario.ar/evento/taller-archivo-familiar-por-gustavo-frittegotto/
LOCATION:Asociación Familia Veneta\, Cafferata 254\, Rosario\, Santa Fe\, 2000\, Argentina
CATEGORIES:Eventos
ATTACH;FMTTYPE=image/png:https://asociacionvenetarosario.ar/wp-content/uploads/taller-archivos-familiares.png
END:VEVENT
BEGIN:VEVENT
DTSTART;TZID=America/Sao_Paulo:20250829T190000
DTEND;TZID=America/Sao_Paulo:20250829T210000
DTSTAMP:20260422T223131
CREATED:20250801T124525Z
LAST-MODIFIED:20250801T124525Z
UID:1915-1756494000-1756501200@asociacionvenetarosario.ar
SUMMARY:1° Encuentro Curso de Enogastronomía Veneta
DESCRIPTION:Clase 1\n\nAntipasto Sarde in saor \nPrimo piatto Risotto al nero di seppia \nSecondo piatto Fegato a la veneziana \nFecha: viernes 29 de agosto. \n19 hs. Cafferata 254 – Rosario \nInscripción: 341-6106192 \nMás información: https://asociacionvenetarosario.ar/enogastronomia/
URL:https://asociacionvenetarosario.ar/evento/1-encuentro-curso-de-enogastronomia-veneta/
LOCATION:Asociación Familia Veneta\, Cafferata 254\, Rosario\, Santa Fe\, 2000\, Argentina
CATEGORIES:Eventos
ATTACH;FMTTYPE=image/png:https://asociacionvenetarosario.ar/wp-content/uploads/flyer-curso-enogastronomia.png
END:VEVENT
BEGIN:VEVENT
DTSTART;TZID=America/Sao_Paulo:20250830T190000
DTEND;TZID=America/Sao_Paulo:20250830T210000
DTSTAMP:20260422T223131
CREATED:20250811T142507Z
LAST-MODIFIED:20250811T142507Z
UID:1955-1756580400-1756587600@asociacionvenetarosario.ar
SUMMARY:Noche de clásicos en la Veneta: Armonia della Laguna
DESCRIPTION:Nace l’Armonia della laguna: agrupación barroca veneciana en Argentina\n\n\n El CAVA Comitato Veneto Argentina se complace en presentar el proyecto Armonia della Laguna\, una iniciativa cultural que honra el legado musical del Veneto y lo proyecta hacia nuevas generaciones.\n\n\n Este proyecto fue aprobado mediante el Decreto del Director del Departamento de Patrimonio Cultural y Deportes n.º 149\, de 30 de abril de 2025\, de la Regione del Veneto\, obteniendo el 1er Puesto luego de los resultados de la investigación preliminar de las solicitudes de subvención presentadas de conformidad con la convocatoria pública aprobada mediante la Resolución del Gobierno Regional n.º 185\, de 25 de febrero de 2025.\n\n\n Armonia della Laguna es una propuesta de la Asociación Regional Italiana Familia Veneta de Rosario que presenta no sólo un programa artístico: es una expresión viva de nuestra identidad. A través de la música barroca veneciana este proyecto recupera la sensibilidad\, el refinamiento y la profundidad espiritual que caracterizan a nuestra región.\n\n\n Esta iniciativa fue presentada por el CAVA ante la Direzione Beni Attività culturali e Sport de la Regione Veneto en el marco de la convocatoria de proyectos culturales para la valorización y tutela de la cultura veneta en el exterior\, obteniendo el primer lugar entre las propuestas presentadas en todo el mundo.\n\n\n Este año se prevén realizar tres conciertos en las ciudades de Rosario\, Ciudad Autónoma de Buenos Aires y Córdoba\, entre los meses de agosto y septiembre.\n\n\n Además\, se propone el intercambio técnico y artístico con entidades y agrupaciones del Veneto en pos de la difusión y el perfeccionamiento de músicos jóvenes\, en particular de origen veneto en Argentina.\n\n\n La dirección musical está a cargo de Tomi Mingardo
URL:https://asociacionvenetarosario.ar/evento/noche-de-clasicos-en-la-veneta-armonia-della-laguna/
LOCATION:Asociación Familia Veneta\, Cafferata 254\, Rosario\, Santa Fe\, 2000\, Argentina
CATEGORIES:Noche de clásicos
ATTACH;FMTTYPE=image/png:https://asociacionvenetarosario.ar/wp-content/uploads/noche-de-clasicos-armonia.png
END:VEVENT
END:VCALENDAR