BEGIN:VCALENDAR
VERSION:2.0
PRODID:-//Famiglia Veneta di Rosario - ECPv6.15.17//NONSGML v1.0//EN
CALSCALE:GREGORIAN
METHOD:PUBLISH
X-ORIGINAL-URL:https://asociacionvenetarosario.ar
X-WR-CALDESC:Eventos para Famiglia Veneta di Rosario
REFRESH-INTERVAL;VALUE=DURATION:PT1H
X-Robots-Tag:noindex
X-PUBLISHED-TTL:PT1H
BEGIN:VTIMEZONE
TZID:America/Sao_Paulo
BEGIN:STANDARD
TZOFFSETFROM:-0300
TZOFFSETTO:-0300
TZNAME:-03
DTSTART:20240101T000000
END:STANDARD
END:VTIMEZONE
BEGIN:VEVENT
DTSTART;TZID=America/Sao_Paulo:20250709T123000
DTEND;TZID=America/Sao_Paulo:20250709T170000
DTSTAMP:20260423T020110
CREATED:20250627T180445Z
LAST-MODIFIED:20250701T122539Z
UID:1719-1752064200-1752080400@asociacionvenetarosario.ar
SUMMARY:Encuentro de sabores patrios
DESCRIPTION:9 de Julio con Sabor a Encuentro \nEste 9 de Julio te invitamos a celebrar la Independencia argentina con un menú que abraza nuestras raíces criollas y el espíritu veneto que llevamos en el corazón. \nCompartiremos: \n🥟 Empanadas  \n🍲 Locro bien patrio\, con todos sus sabores tradicionales \n🍷 Un brindis con Malbec argentino  \n🍰 Tiramisú veneto para endulzarnos el alma \n☕ Pastelitos de membrillo y batata\, servidos con un aromático Café Marco Polo\, para viajar desde Rosario hasta la Serenísima sin movernos de la mesa \nUn almuerzo para honrar la historia\, saborear nuestras tradiciones y fortalecer los lazos que nos unen. \n¡Te esperamos con el corazón abierto y la mesa tendida!
URL:https://asociacionvenetarosario.ar/evento/encuentro-de-sabores-patrios/
LOCATION:Asociación Familia Veneta\, Cafferata 254\, Rosario\, Santa Fe\, 2000\, Argentina
CATEGORIES:Eventos
ATTACH;FMTTYPE=image/jpeg:https://asociacionvenetarosario.ar/wp-content/uploads/9-de-julio.jpg
END:VEVENT
BEGIN:VEVENT
DTSTART;TZID=America/Sao_Paulo:20250724T100000
DTEND;TZID=America/Sao_Paulo:20250727T170000
DTSTAMP:20260423T020110
CREATED:20250627T181143Z
LAST-MODIFIED:20250701T122346Z
UID:1722-1753351200-1753635600@asociacionvenetarosario.ar
SUMMARY:Copa Italia III de ajedrez
DESCRIPTION:
URL:https://asociacionvenetarosario.ar/evento/copa-italia-iii-de-ajedrez/
LOCATION:Asociación Familia Veneta\, Cafferata 254\, Rosario\, Santa Fe\, 2000\, Argentina
ATTACH;FMTTYPE=image/jpeg:https://asociacionvenetarosario.ar/wp-content/uploads/copa-italia-III-2.jpg
END:VEVENT
END:VCALENDAR