BEGIN:VCALENDAR
VERSION:2.0
PRODID:-//Famiglia Veneta di Rosario - ECPv6.15.17//NONSGML v1.0//EN
CALSCALE:GREGORIAN
METHOD:PUBLISH
X-ORIGINAL-URL:https://asociacionvenetarosario.ar
X-WR-CALDESC:Eventos para Famiglia Veneta di Rosario
REFRESH-INTERVAL;VALUE=DURATION:PT1H
X-Robots-Tag:noindex
X-PUBLISHED-TTL:PT1H
BEGIN:VTIMEZONE
TZID:America/Sao_Paulo
BEGIN:STANDARD
TZOFFSETFROM:-0300
TZOFFSETTO:-0300
TZNAME:-03
DTSTART:20240101T000000
END:STANDARD
END:VTIMEZONE
BEGIN:VEVENT
DTSTART;TZID=America/Sao_Paulo:20250427T123000
DTEND;TZID=America/Sao_Paulo:20250427T170000
DTSTAMP:20260423T075921
CREATED:20250406T175840Z
LAST-MODIFIED:20250406T175840Z
UID:1418-1745757000-1745773200@asociacionvenetarosario.ar
SUMMARY:Pranzo di San Marco
DESCRIPTION:🇮🇹 Pranzo di San Marco en la Famiglia Veneta 🇮🇹 \n🍝 Menú imperdible:\nRavioles con ragú\nBondiola con ensalada\nTiramisú\nCafé con grapa ☕🍇 \n📅 Domingo 27 de abril\n🕧 12:30 hs\n📍 Asociación Famiglia Veneta de Rosario – Cafferata 254 \n🎤 Y después… ¡espectáculo musical en vivo!\nUna jornada para compartir en comunidad\, celebrar nuestras raíces y disfrutar con todos los sentidos. \n🎟 ¡Reservá tu lugar y venite a vivir un domingo bien italiano! \n#SanMarco #FamigliaVeneta #Rosario #CulturaItaliana #PranzoItaliano #ItaliaEnRosario #TradizioneVeneta
URL:https://asociacionvenetarosario.ar/evento/pranzo-di-san-marco/
LOCATION:Asociación Familia Veneta\, Cafferata 254\, Rosario\, Santa Fe\, 2000\, Argentina
CATEGORIES:Eventos
ATTACH;FMTTYPE=image/jpeg:https://asociacionvenetarosario.ar/wp-content/uploads/san-marco-2025.jpg
END:VEVENT
END:VCALENDAR