BEGIN:VCALENDAR
VERSION:2.0
PRODID:-//Famiglia Veneta di Rosario - ECPv6.15.17//NONSGML v1.0//EN
CALSCALE:GREGORIAN
METHOD:PUBLISH
X-ORIGINAL-URL:https://asociacionvenetarosario.ar
X-WR-CALDESC:Eventos para Famiglia Veneta di Rosario
REFRESH-INTERVAL;VALUE=DURATION:PT1H
X-Robots-Tag:noindex
X-PUBLISHED-TTL:PT1H
BEGIN:VTIMEZONE
TZID:America/Sao_Paulo
BEGIN:STANDARD
TZOFFSETFROM:-0300
TZOFFSETTO:-0300
TZNAME:-03
DTSTART:20240101T000000
END:STANDARD
END:VTIMEZONE
BEGIN:VEVENT
DTSTART;TZID=America/Sao_Paulo:20250624T180000
DTEND;TZID=America/Sao_Paulo:20250624T193000
DTSTAMP:20260423T045826
CREATED:20250526T145605Z
LAST-MODIFIED:20250526T145605Z
UID:1667-1750788000-1750793400@asociacionvenetarosario.ar
SUMMARY:Introducción a la genealogía - 1° encuentro
DESCRIPTION:Para informes e inscripción: 341-6106192 (whatsapp sólo mensajes)
URL:https://asociacionvenetarosario.ar/evento/introduccion-a-la-genealogia-1-encuentro/
LOCATION:Asociación Familia Veneta\, Cafferata 254\, Rosario\, Santa Fe\, 2000\, Argentina
CATEGORIES:Eventos
ATTACH;FMTTYPE=image/png:https://asociacionvenetarosario.ar/wp-content/uploads/genealogia.png
END:VEVENT
END:VCALENDAR