BEGIN:VCALENDAR
VERSION:2.0
PRODID:-//Famiglia Veneta di Rosario - ECPv6.15.17//NONSGML v1.0//EN
CALSCALE:GREGORIAN
METHOD:PUBLISH
X-WR-CALNAME:Famiglia Veneta di Rosario
X-ORIGINAL-URL:https://asociacionvenetarosario.ar
X-WR-CALDESC:Eventos para Famiglia Veneta di Rosario
REFRESH-INTERVAL;VALUE=DURATION:PT1H
X-Robots-Tag:noindex
X-PUBLISHED-TTL:PT1H
BEGIN:VTIMEZONE
TZID:America/Sao_Paulo
BEGIN:STANDARD
TZOFFSETFROM:-0300
TZOFFSETTO:-0300
TZNAME:-03
DTSTART:20240101T000000
END:STANDARD
END:VTIMEZONE
BEGIN:VEVENT
DTSTART;TZID=America/Sao_Paulo:20250803T180000
DTEND;TZID=America/Sao_Paulo:20250803T200000
DTSTAMP:20260423T020205
CREATED:20250731T155638Z
LAST-MODIFIED:20250731T155638Z
UID:1906-1754244000-1754251200@asociacionvenetarosario.ar
SUMMARY:Función especial Ciclo de Cine Italiano: Homenaje al cine italiano
DESCRIPTION:🎞️ Función especial de nuestro Ciclo de Cine Italiano dirigido por el profesor Emilio Bellon en su Tercer aniversario 🇮🇹 \n🗓️ Domingo 3 de agosto a las 18 hs. | Cafferata 254 \n🎬 Homenaje al Cine Italiano! Grandes Maestros que nos hicieron reír y soñar (Parte I) \n🎭 Los invitamos a evocar inolvidables momentos de algunos films de los años ’60 y ’70…al término de la proyección la mesa estará servida! \n🧑‍🍳 Menú italiano a cargo del Chef Francisco Gariglio: Bruschette + Spaghetti alla Carbonara y Tiramisù \n🎉 Festejamos también la reciente declaración del Ciclo como de «Interés Municipal» por el Concejo Municipal de Rosario. \n📱 Informes y reservas: 341-6106192 (WhatsApp sólo mensajes)
URL:https://asociacionvenetarosario.ar/evento/funcion-especial-ciclo-de-cine-italiano-homenaje-al-cine-italiano/
LOCATION:Asociación Familia Veneta\, Cafferata 254\, Rosario\, Santa Fe\, 2000\, Argentina
CATEGORIES:Eventos
ATTACH;FMTTYPE=image/png:https://asociacionvenetarosario.ar/wp-content/uploads/CICLO-DE-CINE-ITALIANO-DIRIGIDO-POR-EL-PROFESOR-EMILIO-BELLON.png
END:VEVENT
END:VCALENDAR