BEGIN:VCALENDAR
VERSION:2.0
PRODID:-//Famiglia Veneta di Rosario - ECPv6.15.17//NONSGML v1.0//EN
CALSCALE:GREGORIAN
METHOD:PUBLISH
X-ORIGINAL-URL:https://asociacionvenetarosario.ar
X-WR-CALDESC:Eventos para Famiglia Veneta di Rosario
REFRESH-INTERVAL;VALUE=DURATION:PT1H
X-Robots-Tag:noindex
X-PUBLISHED-TTL:PT1H
BEGIN:VTIMEZONE
TZID:America/Sao_Paulo
BEGIN:STANDARD
TZOFFSETFROM:-0300
TZOFFSETTO:-0300
TZNAME:-03
DTSTART:20240101T000000
END:STANDARD
END:VTIMEZONE
BEGIN:VEVENT
DTSTART;TZID=America/Sao_Paulo:20250816T150000
DTEND;TZID=America/Sao_Paulo:20250816T183000
DTSTAMP:20260423T020342
CREATED:20250801T124016Z
LAST-MODIFIED:20250814T162655Z
UID:1911-1755356400-1755369000@asociacionvenetarosario.ar
SUMMARY:Giornata dei bambini
DESCRIPTION:Vení a festejar el día de de las infancias a la Veneta! juegos y cosas ricas! \nInscripción previa al: 341-6106192 (Whatsapp sólo mensajes)
URL:https://asociacionvenetarosario.ar/evento/giornata-dei-bambini/
LOCATION:Asociación Familia Veneta\, Cafferata 254\, Rosario\, Santa Fe\, 2000\, Argentina
CATEGORIES:Eventos
ATTACH;FMTTYPE=image/png:https://asociacionvenetarosario.ar/wp-content/uploads/giornata-dei-bambini.png
END:VEVENT
END:VCALENDAR