BEGIN:VCALENDAR
VERSION:2.0
PRODID:-//Famiglia Veneta di Rosario - ECPv6.15.17//NONSGML v1.0//EN
CALSCALE:GREGORIAN
METHOD:PUBLISH
X-ORIGINAL-URL:https://asociacionvenetarosario.ar
X-WR-CALDESC:Eventos para Famiglia Veneta di Rosario
REFRESH-INTERVAL;VALUE=DURATION:PT1H
X-Robots-Tag:noindex
X-PUBLISHED-TTL:PT1H
BEGIN:VTIMEZONE
TZID:America/Sao_Paulo
BEGIN:STANDARD
TZOFFSETFROM:-0300
TZOFFSETTO:-0300
TZNAME:-03
DTSTART:20240101T000000
END:STANDARD
END:VTIMEZONE
BEGIN:VEVENT
DTSTART;TZID=America/Sao_Paulo:20250622T123000
DTEND;TZID=America/Sao_Paulo:20250622T170000
DTSTAMP:20260423T042323
CREATED:20250526T140907Z
LAST-MODIFIED:20250526T140907Z
UID:1658-1750595400-1750611600@asociacionvenetarosario.ar
SUMMARY:Almuerzo Sei Italia
DESCRIPTION:
URL:https://asociacionvenetarosario.ar/evento/almuerzo-sei-italia/
LOCATION:familia basilicata\, Ente Ríos 2931\, Rosario\, 2000\, Argentina
ATTACH;FMTTYPE=image/jpeg:https://asociacionvenetarosario.ar/wp-content/uploads/sei-italia-almuerzo.jpg
END:VEVENT
END:VCALENDAR