BEGIN:VCALENDAR
VERSION:2.0
PRODID:-//Famiglia Veneta di Rosario - ECPv6.15.17//NONSGML v1.0//EN
CALSCALE:GREGORIAN
METHOD:PUBLISH
X-WR-CALNAME:Famiglia Veneta di Rosario
X-ORIGINAL-URL:https://asociacionvenetarosario.ar
X-WR-CALDESC:Eventos para Famiglia Veneta di Rosario
REFRESH-INTERVAL;VALUE=DURATION:PT1H
X-Robots-Tag:noindex
X-PUBLISHED-TTL:PT1H
BEGIN:VTIMEZONE
TZID:America/Sao_Paulo
BEGIN:STANDARD
TZOFFSETFROM:-0300
TZOFFSETTO:-0300
TZNAME:-03
DTSTART:20230101T000000
END:STANDARD
END:VTIMEZONE
BEGIN:VEVENT
DTSTART;TZID=America/Sao_Paulo:20241221T203000
DTEND;TZID=America/Sao_Paulo:20241221T213000
DTSTAMP:20260422T085338
CREATED:20241203T153853Z
LAST-MODIFIED:20241203T153853Z
UID:1008-1734813000-1734816600@asociacionvenetarosario.ar
SUMMARY:Función de teatro
DESCRIPTION:🎭 Vuelve el teatro a la Veneta! \nOmar Tiberti y Jorge Marcote en «Mi padre» \nSábado 14 y 21 de diciembre 20.30 HS \nCafferata 254 – Rosario \nAnticipadas: 341-5508484
URL:https://asociacionvenetarosario.ar/evento/funcion-de-teatro-2/
LOCATION:Asociación Familia Veneta\, Cafferata 254\, Rosario\, Santa Fe\, 2000\, Argentina
CATEGORIES:Teatro
ATTACH;FMTTYPE=image/jpeg:https://asociacionvenetarosario.ar/wp-content/uploads/mi-padre.jpg
END:VEVENT
BEGIN:VEVENT
DTSTART;TZID=America/Sao_Paulo:20241219T200000
DTEND;TZID=America/Sao_Paulo:20241219T213000
DTSTAMP:20260422T085338
CREATED:20241213T221058Z
LAST-MODIFIED:20241213T221058Z
UID:1019-1734638400-1734643800@asociacionvenetarosario.ar
SUMMARY:Gran concierto coral
DESCRIPTION:🎼Despedimos nuestro 40° Aniversario recibiendo el gran CONCIERTO CORAL del Coro Polifónico de la UNR (dirigido por Sofía Marcucci) y el Coral de cámara Rosario (dirigido por Elio Allegra) \nLos esperamos a todos! \n📌 Asociación Familia Veneta de Rosario (Cafferata 254) \n🎟️ Entrada libre y gratuita (por orden de llegada hasta agotar capacidad)
URL:https://asociacionvenetarosario.ar/evento/gran-concierto-coral/
LOCATION:Asociación Familia Veneta\, Cafferata 254\, Rosario\, Santa Fe\, 2000\, Argentina
CATEGORIES:Eventos
ATTACH;FMTTYPE=image/jpeg:https://asociacionvenetarosario.ar/wp-content/uploads/FB_IMG_1734024307107.jpg
END:VEVENT
BEGIN:VEVENT
DTSTART;TZID=America/Sao_Paulo:20241214T203000
DTEND;TZID=America/Sao_Paulo:20241214T213000
DTSTAMP:20260422T085338
CREATED:20241203T153657Z
LAST-MODIFIED:20241203T153657Z
UID:1005-1734208200-1734211800@asociacionvenetarosario.ar
SUMMARY:Función de teatro
DESCRIPTION:🎭 Vuelve el teatro a la Veneta! \nOmar Tiberti y Jorge Marcote en «Mi padre» \nSábado 14 y 21 de diciembre 20.30 HS \nCafferata 254 – Rosario \nAnticipadas: 341-5508484
URL:https://asociacionvenetarosario.ar/evento/funcion-de-teatro/
LOCATION:Asociación Familia Veneta\, Cafferata 254\, Rosario\, Santa Fe\, 2000\, Argentina
CATEGORIES:Teatro
ATTACH;FMTTYPE=image/jpeg:https://asociacionvenetarosario.ar/wp-content/uploads/mi-padre.jpg
END:VEVENT
BEGIN:VEVENT
DTSTART;TZID=America/Sao_Paulo:20241201T193000
DTEND;TZID=America/Sao_Paulo:20241201T213000
DTSTAMP:20260422T085338
CREATED:20241125T173647Z
LAST-MODIFIED:20241125T173647Z
UID:967-1733081400-1733088600@asociacionvenetarosario.ar
SUMMARY:Función del ciclo de cine italiano
DESCRIPTION:📽️ 🇮🇹 Nueva función de nuestro ciclo de cine italiano dirigido por el profesor Emilio Bellon \n▶️ Matrimonio all’italiana dirigida por Vittorio de Sica\, con Sofia Loren y Marcello Mastroianni \nSinopsis:\nNápoles\, Segunda Guerra Mundial (1939-1945). Filomena Marturano\, una bella joven que está sola en el mundo\, trabaja en un prostíbulo\, pues no encuentra otra manera de ganarse la vida. Allí es donde conoce a Domenico Soriano\, más conocido como Don Mimi\, un acomodado burgués que la retira de la profesión y la lleva a vivir a su casa. (FILMAFFINITY) \n🗓️ Domingo 1 de diciembre a las 19.30 hs \n📌 Cafferata 254
URL:https://asociacionvenetarosario.ar/evento/funcion-del-ciclo-de-cine-italiano/
LOCATION:Asociación Familia Veneta\, Cafferata 254\, Rosario\, Santa Fe\, 2000\, Argentina
CATEGORIES:Eventos
ATTACH;FMTTYPE=image/png:https://asociacionvenetarosario.ar/wp-content/uploads/ciclo-cine_20241125_125306_0000.png
END:VEVENT
BEGIN:VEVENT
DTSTART;TZID=America/Sao_Paulo:20241130T200000
DTEND;TZID=America/Sao_Paulo:20241130T210000
DTSTAMP:20260422T085338
CREATED:20241115T152641Z
LAST-MODIFIED:20241115T152825Z
UID:959-1732996800-1733000400@asociacionvenetarosario.ar
SUMMARY:Noche de clásicos en la Veneta presenta la Orquesta Argentina de Mandolinas
DESCRIPTION:🎼 Nueva función del ciclo Noche de clásicos en la Veneta! \n🗓 Sábado 30 de Noviembre a las 20 horas en Cafferata 254. Rosario \n👉 Se presenta la Orquesta Argentina de Mandolinas de Rosario\, dirigida por Sebastián Fregoni\n✨ Con invitados solistas y más sorpresas! \n🎫 Derecho a espectáculo: $5000 \n🦁 Luego del show podés quedarte a cenar en la Veneta! (Menú típico opcional a $15.000.-) \nReservando antes del 28/11: derecho a espectáculo + menú: $18.000.- \nReservas al: 341-6106192 (WhatsApp sólo mensajes)
URL:https://asociacionvenetarosario.ar/evento/noche-de-clasicos-en-la-veneta-presenta-la-orquesta-argentina-de-mandolinas/
LOCATION:Asociación Familia Veneta\, Cafferata 254\, Rosario\, Santa Fe\, 2000\, Argentina
CATEGORIES:Eventos,Noche de clásicos
ATTACH;FMTTYPE=image/jpeg:https://asociacionvenetarosario.ar/wp-content/uploads/noche-de-clasicos-orquesta-arg.-mandolinas.jpg
END:VEVENT
BEGIN:VEVENT
DTSTART;TZID=America/Sao_Paulo:20241122T200000
DTEND;TZID=America/Sao_Paulo:20241122T213000
DTSTAMP:20260422T085338
CREATED:20241115T153528Z
LAST-MODIFIED:20241115T153528Z
UID:964-1732305600-1732311000@asociacionvenetarosario.ar
SUMMARY:Muestra anual de Teatro 2024
DESCRIPTION:Los invitamos a nuestra muestra anual del grupo de teatro de la Asociación Familia Veneta de Rosario\, digirido por Raúl Yacopini. Entrada libre y gratuita. \nSe ofrecerá servicio de buffet luego del espectáculo (sólo con reserva previa)
URL:https://asociacionvenetarosario.ar/evento/muestra-anual-de-teatro-2024/
LOCATION:Asociación Familia Veneta\, Cafferata 254\, Rosario\, Santa Fe\, 2000\, Argentina
CATEGORIES:Eventos,Teatro
ATTACH;FMTTYPE=image/jpeg:https://asociacionvenetarosario.ar/wp-content/uploads/muestra-anual-2024.jpg
END:VEVENT
BEGIN:VEVENT
DTSTART;TZID=America/Sao_Paulo:20241105T160000
DTEND;TZID=America/Sao_Paulo:20241105T180000
DTSTAMP:20260422T085338
CREATED:20241024T132152Z
LAST-MODIFIED:20241024T132320Z
UID:921-1730822400-1730829600@asociacionvenetarosario.ar
SUMMARY:Presentación Libro "Concebir\, parir\, nacer"
DESCRIPTION:XXIV Settimana della Lingua Italiana nel Mondo\nCongreso sobre Democracia 2024\n\n\n\nEn el marco de la Semana de la lengua italiana en el Mundo: «L’italiano e il libro: il mondo fra le righe» la Asociación Regional Italiana Familia Veneta de Rosario junto al Ateneo Veneto de Venecia y al Ciehmge Unr organizan la presentación del libro: «Concebir\, parir\, nacer» de la Dra. Nadia María Filippini (ex profesora de la Università Ca’ Foscari Venezia) con comentarios de la Dra Maricel Bertolo (UNR) y traducción simultánea de la profesora Marisa Baron.\n\nCoordina el panel: Mauro Testa (Presidente Asociación Familia Veneta Rosario).\n\n\n\n Martes 5 de noviembre 16 a 18 hs\n\n\nPresencial: aula 108 Facultad de Ciencias Politicas y RR.II. (UNR) – Riobamba 250\n\n\nVirtual: Canal de Youtube Ciehmge\n\n\n\nAuspicia: Consolato Generale d’Italia a Rosario
URL:https://asociacionvenetarosario.ar/evento/presentacion-libro/
LOCATION:Facultad Ciencias Políticas y RRII\, Riobamba 250\, Rosario\, Argentina
END:VEVENT
BEGIN:VEVENT
DTSTART;TZID=America/Sao_Paulo:20241103T190000
DTEND;TZID=America/Sao_Paulo:20241103T203000
DTSTAMP:20260422T085338
CREATED:20241024T131703Z
LAST-MODIFIED:20241024T131703Z
UID:918-1730660400-1730665800@asociacionvenetarosario.ar
SUMMARY:Noche de clásicos en la Veneta
DESCRIPTION:Nueva función del ciclo Noche de clásicos en la Veneta!\n\n\n\n Domingo 3 de Noviembre a las 19 horas en Cafferata 254\n\n\n\n Se presenta la Orquesta de cámara de la Secretaría de extensión de la Facultad de Humanidades y Artes de la Universidad Nacional de Rosario\, dirigida por Marisol Gentile\n\n\n\n El ciclo es apoyado por el Recurso Puente de la Secretaría de Cultura y Educación Rosario de la Municipalidad de Rosario\n\n\n\n Entrada libre y gratuita con reserva previa al: 341-6106192 (WhatsApp sólo mensajes)
URL:https://asociacionvenetarosario.ar/evento/noche-de-clasicos-en-la-veneta-2/
LOCATION:Asociación Familia Veneta\, Cafferata 254\, Rosario\, Santa Fe\, 2000\, Argentina
CATEGORIES:Noche de clásicos
END:VEVENT
BEGIN:VEVENT
DTSTART;TZID=America/Sao_Paulo:20241029T203000
DTEND;TZID=America/Sao_Paulo:20241029T220000
DTSTAMP:20260422T085338
CREATED:20241024T131034Z
LAST-MODIFIED:20241024T131341Z
UID:913-1730233800-1730239200@asociacionvenetarosario.ar
SUMMARY:Encuentro de Coros
DESCRIPTION:Encuentro de Coros\n\n\n La Asociación Regional Italiana Familia Veneta de Rosario se complace en recibir al prestigioso Coro MonteVenda de la provincia de Padova\, Regione del Veneto\, Italia.\n\n\n Acompañarán el Coro Alpino Rosario y nuestro Coro Veneto!\n\n\n Los/as esperamos el martes 29 de octubre a las 20.30 hs en nuestra sede de Cafferata 254 con entrada libre y gratuita.\n\n\n Reservar anticipadas al: 341-6106192 (WhatsApp sólo mensajes)\n\n\n Posteriormente se ofrecerá una cena (consultar menú y costo)\n\n\nAuspicia: CAVA Comitato Veneto Argentina\n\n\nPatrocina: Comites Rosario
URL:https://asociacionvenetarosario.ar/evento/encuentro-de-coros/
LOCATION:Asociación Familia Veneta\, Cafferata 254\, Rosario\, Santa Fe\, 2000\, Argentina
CATEGORIES:Eventos
END:VEVENT
BEGIN:VEVENT
DTSTART;TZID=America/Sao_Paulo:20241026T210000
DTEND;TZID=America/Sao_Paulo:20241026T233000
DTSTAMP:20260422T085338
CREATED:20241020T125711Z
LAST-MODIFIED:20241020T125711Z
UID:909-1729976400-1729985400@asociacionvenetarosario.ar
SUMMARY:Noche karaoke!
DESCRIPTION:🇮🇹 🍕 🎤 Noche de pizza y karaoke! \n👉 Vení a vivir la previa de Colectividades con Sei Italia! \n🗓️ Sábado 26 de octubre a las 21 hrs \n📍 Cafferata 254 (Asoc. Familia Veneta) \n🎫 Tarjeta: $7.000.- (incluye 1 bebida y 2 porciones de muzza) \n🍺 Barra de bebidas\, pizza\, tragos y postres \n📱 Reservá antes del 24/10 en la secretaría de tu asociación
URL:https://asociacionvenetarosario.ar/evento/noche-karaoke/
LOCATION:Asociación Familia Veneta\, Cafferata 254\, Rosario\, Santa Fe\, 2000\, Argentina
CATEGORIES:Eventos
ATTACH;FMTTYPE=image/jpeg:https://asociacionvenetarosario.ar/wp-content/uploads/Noche-de-karaoke.jpeg
END:VEVENT
BEGIN:VEVENT
DTSTART;TZID=America/Sao_Paulo:20241017T080000
DTEND;TZID=America/Sao_Paulo:20241020T170000
DTSTAMP:20260422T085338
CREATED:20240928T160546Z
LAST-MODIFIED:20240928T160642Z
UID:883-1729152000-1729443600@asociacionvenetarosario.ar
SUMMARY:Copa Italia 2da edición 2024
DESCRIPTION:COPA ITALIA 2° EDICIÓN  \n  \n\n\n\n Vuelve el torneo internacional de ajedrez válido por el ranking FIDE para jugadores federados\n\n\n\n Se entregará el Trofeo 40° Aniversario de la Asociación Familia Veneta de Rosario \n\n\n\nOrganizado por:\nAsociación Regional Italiana Familia Veneta de Rosario\nCirculo Sardo Rosario\nFamilia Friulana Rosario\nAsociación Familia Calabresa de Rosario Institución Social y Cultural\nAsociacion Italiana Alcara Li Fusi – Messina\nAsoc. Familia Marchigiana de Rosario\n\n\n\nAuspician:\nComites Rosario\nForo de Colectividades Concejo Municipal de Rosario
URL:https://asociacionvenetarosario.ar/evento/copa-italia-2da-edicion-2024/
LOCATION:Asociación Familia Veneta\, Cafferata 254\, Rosario\, Santa Fe\, 2000\, Argentina
CATEGORIES:Eventos
ATTACH;FMTTYPE=image/jpeg:https://asociacionvenetarosario.ar/wp-content/uploads/Copa-italia-2.jpeg
END:VEVENT
BEGIN:VEVENT
DTSTART;TZID=America/Sao_Paulo:20240930T203000
DTEND;TZID=America/Sao_Paulo:20240930T233000
DTSTAMP:20260422T085338
CREATED:20240908T200121Z
LAST-MODIFIED:20240917T235637Z
UID:816-1727728200-1727739000@asociacionvenetarosario.ar
SUMMARY:Milonga La Piucarina
DESCRIPTION:Desde junio de 2022 los martes cada 15 días tiene lugar la Milonga La Piucarina\, organizada por Carito Sastre y Laureano Álvarez Bava y desde un primer momento se convirtió en una de las milongas predilectas de la ciudad. \nDesde las 20.30 hasta las 21.30 hs. se desarrolla una clase de tango y luego hasta la 1 AM se baila! \nEn las tandas\, podés disfrutar de nuestras exquisitas pizzas y empanadas\, acompañadas por vino\, cerveza o bebidas sin alcohol. De postre\, te espera nuestro tradicional Tiramisù!
URL:https://asociacionvenetarosario.ar/evento/milonga-la-piucarina/
LOCATION:Asociación Familia Veneta\, Cafferata 254\, Rosario\, Santa Fe\, 2000\, Argentina
CATEGORIES:Eventos
ATTACH;FMTTYPE=image/jpeg:https://asociacionvenetarosario.ar/wp-content/uploads/2024/08/Milonga.jpg
END:VEVENT
BEGIN:VEVENT
DTSTART;TZID=America/Sao_Paulo:20240929T090000
DTEND;TZID=America/Sao_Paulo:20240929T120000
DTSTAMP:20260422T085338
CREATED:20240908T201834Z
LAST-MODIFIED:20240908T201834Z
UID:826-1727600400-1727611200@asociacionvenetarosario.ar
SUMMARY:MÚSICA POPULAR - UN PATRIMONIO EN CAMINO
DESCRIPTION:La música popular representa la salvaguardia de la cultura de los pueblos\, transmitiéndose de generación en generación. \nLas nuevas tecnologías y plataformas digitales nos permiten compartirla a pesar de la distancia. \nEl grupo folclórico Gli amici campagnoli de Treviso (Veneto) nos ofrecerán un concierto de música popular Veneta e italiana que será emitido por el canal de YouTube de la Asociación Familia Veneta de Rosario. \nJornada GEP 2024
URL:https://asociacionvenetarosario.ar/evento/musica-popular-un-patrimonio-en-camino/
CATEGORIES:Eventos
ATTACH;FMTTYPE=image/png:https://asociacionvenetarosario.ar/wp-content/uploads/amici-campagnoli.png
END:VEVENT
BEGIN:VEVENT
DTSTART;TZID=America/Sao_Paulo:20240928T200000
DTEND;TZID=America/Sao_Paulo:20240928T233000
DTSTAMP:20260422T085338
CREATED:20240908T201625Z
LAST-MODIFIED:20240908T201625Z
UID:824-1727553600-1727566200@asociacionvenetarosario.ar
SUMMARY:Noche de clásicos en la Veneta
DESCRIPTION:El proyecto consiste en una serie de espectáculos gratuitos y abiertos a la comunidad rosarina para el acercamiento a la música clásica entre los meses de junio y noviembre\, en nuestra sede de calle Cafferata 254.
URL:https://asociacionvenetarosario.ar/evento/noche-de-clasicos-en-la-veneta/
LOCATION:Asociación Familia Veneta\, Cafferata 254\, Rosario\, Santa Fe\, 2000\, Argentina
CATEGORIES:Noche de clásicos
ATTACH;FMTTYPE=image/jpeg:https://asociacionvenetarosario.ar/wp-content/uploads/2024/08/Noche-de-clasicos.jpg
END:VEVENT
BEGIN:VEVENT
DTSTART;TZID=America/Sao_Paulo:20240928T160000
DTEND;TZID=America/Sao_Paulo:20240928T200000
DTSTAMP:20260422T085338
CREATED:20240908T201455Z
LAST-MODIFIED:20240908T201455Z
UID:822-1727539200-1727553600@asociacionvenetarosario.ar
SUMMARY:TALLER DE ARTE - ESPACIOS DE MI INFANCIA
DESCRIPTION:Todos tenemos rincones\, espacios\, aromas y momentos mágicos en nuestra memoria. \n¡Qué lejanos pueden parecer y sin embargo con sólo recordarlos se sienten tan presentes! Ningún lugar está lejos. \nHoy recordamos aquellas experiencias que sucedieron en nuestra infancia\, que aún permanecen brillantes y apreciadas en nuestros corazones. Los recrearemos con colores\, palabras y sensaciones. \nSilvia Caterina nos ofrece un taller de arte como viaje para descubrir el patrimonio personal y familiar de cada participante. \n¡Actividad gratuita con cupos limitados! \nJornada GEP 2024
URL:https://asociacionvenetarosario.ar/evento/taller-de-arte-espacios-de-mi-infancia/
LOCATION:Asociación Familia Veneta\, Cafferata 254\, Rosario\, Santa Fe\, 2000\, Argentina
CATEGORIES:Eventos
ATTACH;FMTTYPE=image/png:https://asociacionvenetarosario.ar/wp-content/uploads/taller-de-arte.png
END:VEVENT
BEGIN:VEVENT
DTSTART;TZID=America/Sao_Paulo:20240928T100000
DTEND;TZID=America/Sao_Paulo:20240928T120000
DTSTAMP:20260422T085338
CREATED:20240908T200959Z
LAST-MODIFIED:20240908T200959Z
UID:820-1727517600-1727524800@asociacionvenetarosario.ar
SUMMARY:WEBINAR: PROYECTO INTEMPERIE
DESCRIPTION:LLANURA PAMPEANA – PIANURA PADANA\nEl Proyecto Intemperie es un punto de reflexión y expresión sobre el hombre en la llanura. Que la llanura\, a su vez\, es un territorio común que trasciende geografías y tiempos. \nCon la participación sus integrantes desde Argentina e Italia\, se presentará el proyecto a través de un webinar. \nJornada GEP 2024
URL:https://asociacionvenetarosario.ar/evento/webinar-proyecto-intemperie/
CATEGORIES:Eventos
ATTACH;FMTTYPE=image/png:https://asociacionvenetarosario.ar/wp-content/uploads/proyecto-intemperie.png
END:VEVENT
BEGIN:VEVENT
DTSTART;TZID=America/Sao_Paulo:20240927T190000
DTEND;TZID=America/Sao_Paulo:20240927T200000
DTSTAMP:20260422T085338
CREATED:20240908T200507Z
LAST-MODIFIED:20240908T200507Z
UID:818-1727463600-1727467200@asociacionvenetarosario.ar
SUMMARY:ERNESTO ¡SÍ\, EXISTE!
DESCRIPTION:Qualunque sia il tuo colore falo valere\nPresentación del libro «Ernesto ¡sí\, existe! \nDe la autora Myriam Ponce\, ilustrado por Virginia Borin. Esta historia debe llegar a todos los niños\, niñas\, padres y educadores que estén atravesando situaciones angustiantes y lo necesiten. \nArgentina es uno de los países del mundo con mayores índices de acoso escolar. \nEl libro fue financiado por la Fundación para la democracia Internacional y la Embajada de Austria en Argentina y este mes sumó el apoyo de la Asociación Veneta de Rosario. \nEVENTO ONLINE A TRAVÉS DE NUESTRO CANAL DE YOUTUBE \nJornada GEP 2024
URL:https://asociacionvenetarosario.ar/evento/ernesto-si-existe/
CATEGORIES:Eventos
ATTACH;FMTTYPE=image/png:https://asociacionvenetarosario.ar/wp-content/uploads/ernesto.png
END:VEVENT
BEGIN:VEVENT
DTSTART;TZID=America/Sao_Paulo:20240921T180000
DTEND;TZID=America/Sao_Paulo:20240921T233000
DTSTAMP:20260422T085338
CREATED:20240908T195445Z
LAST-MODIFIED:20240908T195445Z
UID:814-1726941600-1726961400@asociacionvenetarosario.ar
SUMMARY:ENCUENTRO INTERCULTURA: EL CAMINO DE LA VIDA
DESCRIPTION:La Juventud Veneta de Rosario y AFS organizan el Segundo Encuentro intercultural. \nEl encuentro -con una duración aproximada de dos horas- tendrá como objetivo el intercambio de experiencias\, conocimientos\, costumbres y tradiciones de participantes de diferentes países del mundo. \nJornada GEP 2024
URL:https://asociacionvenetarosario.ar/evento/encuentro-intercultura-el-camino-de-la-vida/
LOCATION:Asociación Familia Veneta\, Cafferata 254\, Rosario\, Santa Fe\, 2000\, Argentina
CATEGORIES:Eventos
ATTACH;FMTTYPE=image/png:https://asociacionvenetarosario.ar/wp-content/uploads/intercultura.png
END:VEVENT
BEGIN:VEVENT
DTSTART;TZID=America/Sao_Paulo:20240920T200000
DTEND;TZID=America/Sao_Paulo:20240920T233000
DTSTAMP:20260422T085338
CREATED:20240908T195112Z
LAST-MODIFIED:20240908T195247Z
UID:811-1726862400-1726875000@asociacionvenetarosario.ar
SUMMARY:Función teatro "Neva"
DESCRIPTION:Dos actrices\, un actor\, una obra\, un ensayo…una pequeña revolución. Rusia 1905\, mientras se ensaya El Jardín de los Cerezos de Antón Chejov se mezclan en la escena tres mundos en estrecha relación\, de esas relaciones que nos da el teatro\, extremas\, necesarias. Masha y Aleko actores de la compañía asisten a Olga\, viuda de Chejov\, en su deseo de recuperar las formas perdidas. \nComplicidades\, traiciones\, realidades y ficciones se cruzan en un juego que finalmente es excusa para contarnos\, para intentar decir. \nJornada GEP 2024 \nInscripciones a nuestro WHATSAPP
URL:https://asociacionvenetarosario.ar/evento/funcion-teatro-neva/
LOCATION:Asociación Familia Veneta\, Cafferata 254\, Rosario\, Santa Fe\, 2000\, Argentina
CATEGORIES:Teatro
ATTACH;FMTTYPE=image/png:https://asociacionvenetarosario.ar/wp-content/uploads/obra-teatro.png
END:VEVENT
BEGIN:VEVENT
DTSTART;TZID=America/Sao_Paulo:20240915T123000
DTEND;TZID=America/Sao_Paulo:20240915T200000
DTSTAMP:20260422T085338
CREATED:20240807T212010Z
LAST-MODIFIED:20240807T212010Z
UID:131-1726403400-1726430400@asociacionvenetarosario.ar
SUMMARY:Pranzo 40º Anniversario
DESCRIPTION:– 40° Aniversario – \n\n\n Pranzo Anniversario \n\n\n Domingo 15 de septiembre a las 12.30 hs\n\n\n Servicio de catering a cargo del Chef Emiliano Molina\n\n\n Brindis con torta\n\n\n Café con grappa\n\n\n Espectáculos:\n Música popular Veneta: Gli amici campagnoli (Treviso\, Italia).\n\n\n Clásicos de la música italiana: Quinteto Experimental\n\n\n Participación especial: soprano Hanna Basso\n\n\n \n\nRESERVAS: 3416106192 o a secretaria@asociacionvenetarosario.ar\n\n\n Vi aspettiamo!
URL:https://asociacionvenetarosario.ar/evento/pranzo-40o-anniversario/
LOCATION:Asociación Familia Veneta\, Cafferata 254\, Rosario\, Santa Fe\, 2000\, Argentina
CATEGORIES:Eventos
ATTACH;FMTTYPE=image/jpeg:https://asociacionvenetarosario.ar/wp-content/uploads/2024/08/Pranzo-anniversario.jpg
END:VEVENT
BEGIN:VEVENT
DTSTART;TZID=America/Sao_Paulo:20240830T193000
DTEND;TZID=America/Sao_Paulo:20240830T233000
DTSTAMP:20260422T085338
CREATED:20240807T210208Z
LAST-MODIFIED:20240807T210208Z
UID:123-1725046200-1725060600@asociacionvenetarosario.ar
SUMMARY:Noche de clásicos - Instrumentalia
DESCRIPTION:🎼 La próxima función de nuestra Noche de clásicos en la Veneta tiene fecha! Viernes 30 de agosto a las 19.30 hs. Se presentará Instrumentalia\, dirigida por Marisol Gentile. El proyecto Noche de clásicos en la Veneta fue ganador de la convocatoria Recurso puente de la Secretaría de Cultura y Educación Rosario de la Municipalidad de Rosario. La entrada es libre y gratuita con cupos limitados. Luego del concierto ofreceremos un servicio de catering a cargo de Eventos Vip:Menú 1 Tres PasosEntrada PeperonataPlato principal Raviolones c/salsa de mantequilla y SalviaOpción vegetarianosSorrentinos de Muzzarella y Calabaza con salsa de mantequilla y SalviaPostre Crespelle RellenoCosto del menúHasta el 20/8: $18.000.- (incluye botella agua 0.5 Lt y/o lata cerveza y/o copa de vino) Luego 20/8: $21.000.-Menú 2 Tres pasosEntrada PeperonataPlato principal Hígado de Ternera a la Veneciana con puré Postre Crespelle Relleno caramelizadoCosto del menúHasta el 20/8: $18000.- (incluye botella agua 0.5 Lt y/o lata cerveza y/o copa de vino) Luego 20/8: $21.000.-Menú 3 Dos pasosPizza de chorizos y Albahaca O de doble MuzzaPostre Crespelle Relleno caramelizadoCosto del menúHasta 20/8: $ 13.000.- (incluye botella agua 0.5 Lt y/o lata cerveza y/o copa de vino) Luego del 20/8: $15.000.- Reservas: 341-6106192
URL:https://asociacionvenetarosario.ar/evento/noche-de-clasicos-instrumentalia/
LOCATION:Asociación Familia Veneta\, Cafferata 254\, Rosario\, Santa Fe\, 2000\, Argentina
CATEGORIES:Noche de clásicos
ATTACH;FMTTYPE=image/jpeg:https://asociacionvenetarosario.ar/wp-content/uploads/2024/08/Evento-Noche-clasicos.jpeg
END:VEVENT
END:VCALENDAR