BEGIN:VCALENDAR
VERSION:2.0
PRODID:-//Famiglia Veneta di Rosario - ECPv6.15.17//NONSGML v1.0//EN
CALSCALE:GREGORIAN
METHOD:PUBLISH
X-ORIGINAL-URL:https://asociacionvenetarosario.ar
X-WR-CALDESC:Eventos para Famiglia Veneta di Rosario
REFRESH-INTERVAL;VALUE=DURATION:PT1H
X-Robots-Tag:noindex
X-PUBLISHED-TTL:PT1H
BEGIN:VTIMEZONE
TZID:America/Sao_Paulo
BEGIN:STANDARD
TZOFFSETFROM:-0300
TZOFFSETTO:-0300
TZNAME:-03
DTSTART:20250101T000000
END:STANDARD
END:VTIMEZONE
BEGIN:VEVENT
DTSTART;TZID=America/Sao_Paulo:20260418T130000
DTEND;TZID=America/Sao_Paulo:20260418T180000
DTSTAMP:20260417T225153
CREATED:20260407T135211Z
LAST-MODIFIED:20260407T140247Z
UID:2391-1776517200-1776535200@asociacionvenetarosario.ar
SUMMARY:Encuentro Seminario de Técnica Vocal con Maestro Carlos Duarte
DESCRIPTION:En el marco del Espacio de Formación Permanente 2025\, el C.A.L “Centro para el Arte Lírico de Rosario” ofrece este nuevo seminario en el mes de ABRIL de 2026 a cargo de Carlos Duarte\, profesor del I.S.A Teatro Colón. El mismo se llevará a cabo el SABADO 18/04/26 de 13hs a 18hs en la «Soc. Flia Veneta de Rosario» (Caferata 254)\, y contará con la modalidad de alumnxs activxs y oyentes. El Seminario tendrá una frecuencia mensual que se sostendrá a lo largo de todo el año\, contemplándose además la realización de Muestras y Conciertos de cierre. El rol de pianista acompañante esta vez\, estará a cargo de César Rojas Esquivel. \nEl costo por cada encuentro será de 40.000$ Activos y de 20.000$ Oyentes.\nINFORMES E INSCRIPCIÓN: Tel 341- 344 7721 // 341-277 1737.\nLxs esperamos! Gracias por difundir!!
URL:https://asociacionvenetarosario.ar/evento/encuentro-seminario-de-tecnica-vocal-con-maestro-carlos-duarte/
LOCATION:Asociación Familia Veneta\, Cafferata 254\, Rosario\, Santa Fe\, 2000\, Argentina
ATTACH;FMTTYPE=image/png:https://asociacionvenetarosario.ar/wp-content/uploads/duarte.png
END:VEVENT
BEGIN:VEVENT
DTSTART;TZID=America/Sao_Paulo:20260424T190000
DTEND;TZID=America/Sao_Paulo:20260424T210000
DTSTAMP:20260417T225153
CREATED:20260407T134156Z
LAST-MODIFIED:20260413T153710Z
UID:2386-1777057200-1777064400@asociacionvenetarosario.ar
SUMMARY:Noche de Clásicos en la Veneta
DESCRIPTION:
URL:https://asociacionvenetarosario.ar/evento/noche-de-clasicos-en-la-veneta-6/
LOCATION:Asociación Familia Veneta\, Cafferata 254\, Rosario\, Santa Fe\, 2000\, Argentina
ATTACH;FMTTYPE=image/jpeg:https://asociacionvenetarosario.ar/wp-content/uploads/WhatsApp-Image-2026-04-13-at-12.27.32-PM.jpeg
END:VEVENT
BEGIN:VEVENT
DTSTART;TZID=America/Sao_Paulo:20260426T123000
DTEND;TZID=America/Sao_Paulo:20260426T170000
DTSTAMP:20260417T225153
CREATED:20260323T135348Z
LAST-MODIFIED:20260411T124313Z
UID:2382-1777206600-1777222800@asociacionvenetarosario.ar
SUMMARY:Pranzo di San Marco
DESCRIPTION:
URL:https://asociacionvenetarosario.ar/evento/pranzo-di-san-marco-2/
LOCATION:Asociación Familia Veneta\, Cafferata 254\, Rosario\, Santa Fe\, 2000\, Argentina
CATEGORIES:Eventos
ATTACH;FMTTYPE=image/jpeg:https://asociacionvenetarosario.ar/wp-content/uploads/WhatsApp-Image-2026-04-11-at-9.02.47-AM.jpeg
END:VEVENT
END:VCALENDAR